BEGIN:VCALENDAR
VERSION:2.0
PRODID:-//eventon.com NONSGML v1.0//EN
CALSCALE:GREGORIAN
METHOD:PUBLISH
BEGIN:VEVENT
UID:69eac0c1e803b
DTSTAMP:20260424T010049Z
DTSTART:20210530T140000Z
DTEND:20210530T153000Z
LOCATION:
SUMMARY:Cardio
DESCRIPTION:Cardio\nhttps://lorenapaeztraining.com/events/cardio-3/var/ri-3
 0.l-L1
URL:https://lorenapaeztraining.com/events/cardio-3/var/ri-30.l-L1
END:VEVENT
END:VCALENDAR