BEGIN:VCALENDAR
VERSION:2.0
PRODID:-//eventon.com NONSGML v1.0//EN
CALSCALE:GREGORIAN
METHOD:PUBLISH
BEGIN:VEVENT
UID:69ead83a7c899
DTSTAMP:20260424T024058Z
DTSTART:20210601T140000Z
DTEND:20210601T153000Z
LOCATION:
SUMMARY:Cardio
DESCRIPTION:Cardio\nhttps://lorenapaeztraining.com/events/cardio-3/var/ri-3
 1.l-L1
URL:https://lorenapaeztraining.com/events/cardio-3/var/ri-31.l-L1
END:VEVENT
END:VCALENDAR