BEGIN:VCALENDAR
VERSION:2.0
PRODID:-//eventon.com NONSGML v1.0//EN
CALSCALE:GREGORIAN
METHOD:PUBLISH
BEGIN:VEVENT
UID:69e612bfad89b
DTSTAMP:20260420T114919Z
DTSTART:20210316T140000Z
DTEND:20210316T153000Z
LOCATION:
SUMMARY:Cardio
DESCRIPTION:Cardio\nhttps://lorenapaeztraining.com/events/cardio-3/var/ri-9
 .l-L1
URL:https://lorenapaeztraining.com/events/cardio-3/var/ri-9.l-L1
END:VEVENT
END:VCALENDAR