BEGIN:VCALENDAR
VERSION:2.0
PRODID:-//eventon.com NONSGML v1.0//EN
CALSCALE:GREGORIAN
METHOD:PUBLISH
BEGIN:VEVENT
UID:69e5d44284c92
DTSTAMP:20260420T072242Z
DTSTART:20210621T143000Z
DTEND:20210621T153000Z
LOCATION:
SUMMARY:Pilates
DESCRIPTION:Está clase tiene un nivel más alto. Nos enfocamosen ejercicio
 s más avanzados\,  buscando mejorar la fuerza\,  coordinación\, balance\,
   nivel cardiovascular entre otros beneficios.\nhttps://lorenapaeztraining.
 com/events/pilates-2/var/ri-18.l-L1
URL:https://lorenapaeztraining.com/events/pilates-2/var/ri-18.l-L1
END:VEVENT
END:VCALENDAR