BEGIN:VCALENDAR
VERSION:2.0
PRODID:-//eventon.com NONSGML v1.0//EN
CALSCALE:GREGORIAN
METHOD:PUBLISH
BEGIN:VEVENT
UID:69e891ed559b2
DTSTAMP:20260422T091629Z
DTSTART:20210628T143000Z
DTEND:20210628T153000Z
LOCATION:
SUMMARY:Pilates
DESCRIPTION:Está clase tiene un nivel más alto. Nos enfocamosen ejercicio
 s más avanzados\,  buscando mejorar la fuerza\,  coordinación\, balance\,
   nivel cardiovascular entre otros beneficios.\nhttps://lorenapaeztraining.
 com/events/pilates-2/var/ri-19.l-L1
URL:https://lorenapaeztraining.com/events/pilates-2/var/ri-19.l-L1
END:VEVENT
END:VCALENDAR